Workbook

Sheet Лист1
A2: Информация об исполнении муниципальных программ за девять месяцев 2026 года
A3: Наименование программы | B3: План | C3: Исполнение | D3: %исполнения
A4: =[1]Бюджет!B10 -> Муниципальная программа «Развитие городского сообщества» | B4: =[1]Бюджет!D10 -> 877600 | C4: =[1]Бюджет!C10 -> 597393.2 | D4: =(C4/B4)*100 -> 68.07124
A5: =[1]Бюджет!B11 -> Муниципальная программа «Обеспечение безопасности жизнедеятельности населения города Черемхово» | B5: =[1]Бюджет!D11 -> 4246900 | C5: =[1]Бюджет!C11 -> 2751737 | D5: =(C5/B5)*100 -> 64.794014
A6: =[1]Бюджет!B12 -> Муниципальная программа «Развитие образования города Черемхово» | B6: =[1]Бюджет!D12 -> 1.8175787e+09 | C6: =[1]Бюджет!C12 -> 1.4862333e+09 | D6: =(C6/B6)*100 -> 81.769959
A7: =[1]Бюджет!B13 -> Муниципальная программа «Развитие культуры города Черемхово» | B7: =[1]Бюджет!D13 -> 3.6199109e+08 | C7: =[1]Бюджет!C13 -> 2.6570279e+08 | D7: =(C7/B7)*100 -> 73.400368
A8: =[1]Бюджет!B14 -> Муниципальная программа «Развитие физической культуры и спорта в городе Черемхово» | B8: =[1]Бюджет!D14 -> 260898287 | C8: =[1]Бюджет!C14 -> 1.7626733e+08 | D8: =(C8/B8)*100 -> 67.561705
A9: =[1]Бюджет!B15 -> Муниципальная программа «Молодежь города Черемхово» | B9: =[1]Бюджет!D15 -> 19119197 | C9: =[1]Бюджет!C15 -> 14291618 | D9: =(C9/B9)*100 -> 74.750093
A10: =[1]Бюджет!B16 -> Муниципальная программа «Организация и обеспечение отдыха и оздоровления детей и подростков на территории города Черемхово» | B10: =[1]Бюджет!D16 -> 4257620 | C10: =[1]Бюджет!C16 -> 4257466.4 | D10: =(C10/B10)*100 -> 99.996392
A11: =[1]Бюджет!B17 -> Муниципальная программа «Оказание материальной помощи гражданам, находящимся в трудной жизненной ситуации» | B11: =[1]Бюджет!D17 -> 818500 | C11: =[1]Бюджет!C17 -> 409660 | D11: =(C11/B11)*100 -> 50.050092
A12: =[1]Бюджет!B18 -> Муниципальная программа «Доступная среда» | B12: =[1]Бюджет!D18 -> 642100 | C12: =[1]Бюджет!C18 -> 606399.25 | D12: =(C12/B12)*100 -> 94.440002
A13: =[1]Бюджет!B19 -> Муниципальная программа «Создание условий для оказания медицинской помощи населению и формирование системы мотивации граждан к здоровому образу жизни в городе Черемхово» | B13: =[1]Бюджет!D19 -> 200000 | C13: =[1]Бюджет!C19 -> 0 | D13: =(C13/B13)*100 -> 0
A14: =[1]Бюджет!B20 -> Муниципальная программа «Молодым семьям - доступное жилье» | B14: =[1]Бюджет!D20 -> 7761600 | C14: =[1]Бюджет!C20 -> 7716568.1 | D14: =(C14/B14)*100 -> 99.419812
A15: =[1]Бюджет!B21 -> Муниципальная адресная программа «Переселение граждан, проживающих на территории города Черемхово, из аварийного жилищного фонда, признанного таковым после 1 января 2017 года» | B15: =[1]Бюджет!D21 -> 55745100 | C15: =[1]Бюджет!C21 -> 37511724 | D15: =(C15/B15)*100 -> 67.291519
... A21: =[1]Бюджет!B27 -> Муниципальная программа «Реализация государственной национальной политики в городе Черемхово» | B21: =[1]Бюджет!D27 -> 200000 | C21: =[1]Бюджет!C27 -> 0 | D21: =(C21/B21)*100 -> 0
A22: =[1]Бюджет!B28 -> Муниципальная программа «Профилактика безнадзорности и правонарушений несовершеннолетних в городе Черемхово» | B22: =[1]Бюджет!D28 -> 56000 | C22: =[1]Бюджет!C28 -> 23000
B23: =SUM(B4:B22) -> 3.2770196e+09 | C23: =SUM(C4:C22) -> 2.4945168e+09 | D23: =(C23/B23)*100 -> 76.12151
